BEGIN:VCALENDAR
VERSION:2.0
PRODID:-//ChamberMaster//Event Calendar 2.0//EN
METHOD:PUBLISH
X-PUBLISHED-TTL:P1H
REFRESH-INTERVAL:P1H
CALSCALE:GREGORIAN
BEGIN:VTIMEZONE
TZID:America/Chicago
BEGIN:DAYLIGHT
RRULE:FREQ=YEARLY;BYMONTH=3;BYDAY=2SU
DTSTART:20070101T000000
TZOFFSETFROM:-0600
TZOFFSETTO:-0500
TZNAME:Central Daylight Time
END:DAYLIGHT
BEGIN:STANDARD
RRULE:FREQ=YEARLY;BYMONTH=11;BYDAY=1SU
DTSTART:20070101T000000
TZOFFSETFROM:-0500
TZOFFSETTO:-0600
TZNAME:Central Standard Time
END:STANDARD
END:VTIMEZONE
BEGIN:VEVENT
DTSTART;TZID=America/Chicago:20260528T170000
DTEND;TZID=America/Chicago:20260528T210000
X-MICROSOFT-CDO-ALLDAYEVENT:FALSE
SUMMARY:2026 Tennessee Pride in Business Awards
DESCRIPTION:Progress doesn’t happen by accident. It’s built by courageous voices\, bold leaders\, and a community that refuses to move backward.\n\nThe 2026 Pride in Business Awards will celebrate the individuals\, businesses\, and advocates who have shaped LGBTQ+ progress in Tennessee - and the leaders continuing to move us forward.\n\nJoin us for an evening honoring the legacy we’ve inherited and the future we’re building together.\nSave the Date: 5.28.26 ✨
X-ALT-DESC;FMTTYPE=text/html:Progress doesn’t happen by accident. It’s built by courageous voices\, bold leaders\, and a community that refuses to move backward.\n\nThe 2026 Pride in Business Awards will celebrate the individuals\, businesses\, and advocates who have shaped LGBTQ+ progress in Tennessee - and the leaders continuing to move us forward.\n\nJoin us for an evening honoring the legacy we’ve inherited and the future we’re building together.\nSave the Date: 5.28.26 ✨
LOCATION:
UID:e.1830.1444838
SEQUENCE:3
DTSTAMP:20260422T062937Z
URL:https://nashvillelgbtchamberofcommercejuly272020.growthzoneapp.com/chamber-events/Details/2026-tennessee-pride-in-business-awards-1711257?sourceTypeId=Hub
END:VEVENT
END:VCALENDAR
