BEGIN:VCALENDAR
VERSION:2.0
PRODID:-//ChamberMaster//Event Calendar 2.0//EN
METHOD:PUBLISH
X-PUBLISHED-TTL:P1H
REFRESH-INTERVAL:P1H
CALSCALE:GREGORIAN
BEGIN:VTIMEZONE
TZID:America/Chicago
BEGIN:DAYLIGHT
RRULE:FREQ=YEARLY;BYMONTH=3;BYDAY=2SU
DTSTART:20070101T000000
TZOFFSETFROM:-0600
TZOFFSETTO:-0500
TZNAME:Central Daylight Time
END:DAYLIGHT
BEGIN:STANDARD
RRULE:FREQ=YEARLY;BYMONTH=11;BYDAY=1SU
DTSTART:20070101T000000
TZOFFSETFROM:-0500
TZOFFSETTO:-0600
TZNAME:Central Standard Time
END:STANDARD
END:VTIMEZONE
BEGIN:VEVENT
DTSTART;TZID=America/Chicago:20260415T180000
DTEND;TZID=America/Chicago:20260415T210000
X-MICROSOFT-CDO-ALLDAYEVENT:FALSE
SUMMARY:Nashville Pride - Martinis and Jazz
DESCRIPTION:Join Nashville Pride for the annual Martinis & Jazz fundraiser on Wednesday\, April 15th from 6pm - 9pm in the Courtyard at Center 615 in East Nashville. Martinis & Jazz is Nashville Pride’s largest fundraiser outside of the annual Festival and Parade with the money raised helping to support the work of Nashville Pride year-round. This event is the perfect way to directly support Nashville Pride while connecting with our community.\n\nEnjoy craft cocktails\, beer\, wine\, appetizers\, and live entertainment while participating in our wine pull and silent auction!\n\nGet Tickets today at: nashvillepride.org/martinisandjazz
X-ALT-DESC;FMTTYPE=text/html:Join Nashville Pride for the annual Martinis & Jazz fundraiser on Wednesday\, April 15th from 6pm - 9pm in the Courtyard at Center 615 in East Nashville. Martinis & Jazz is Nashville Pride’s largest fundraiser outside of the annual Festival and Parade with the money raised helping to support the work of Nashville Pride year-round. This event is the perfect way to directly support Nashville Pride while connecting with our community.\n\nEnjoy craft cocktails\, beer\, wine\, appetizers\, and live entertainment while participating in our wine pull and silent auction!\n\nGet Tickets today at: nashvillepride.org/martinisandjazz
LOCATION:615 Main St Nashville TN 37206
UID:e.1830.1437316
SEQUENCE:3
DTSTAMP:20260422T062939Z
URL:https://nashvillelgbtchamberofcommercejuly272020.growthzoneapp.com/chamber-events/Details/nashville-pride-martinis-and-jazz-1701256?sourceTypeId=Hub
END:VEVENT
END:VCALENDAR
