BEGIN:VCALENDAR
VERSION:2.0
PRODID:-//ChamberMaster//Event Calendar 2.0//EN
METHOD:PUBLISH
X-PUBLISHED-TTL:P1H
REFRESH-INTERVAL:P1H
CALSCALE:GREGORIAN
BEGIN:VTIMEZONE
TZID:America/Chicago
BEGIN:DAYLIGHT
RRULE:FREQ=YEARLY;BYMONTH=3;BYDAY=2SU
DTSTART:20070101T000000
TZOFFSETFROM:-0600
TZOFFSETTO:-0500
TZNAME:Central Daylight Time
END:DAYLIGHT
BEGIN:STANDARD
RRULE:FREQ=YEARLY;BYMONTH=11;BYDAY=1SU
DTSTART:20070101T000000
TZOFFSETFROM:-0500
TZOFFSETTO:-0600
TZNAME:Central Standard Time
END:STANDARD
END:VTIMEZONE
BEGIN:VEVENT
DTSTART;TZID=America/Chicago:20260419T110000
DTEND;TZID=America/Chicago:20260419T140000
X-MICROSOFT-CDO-ALLDAYEVENT:FALSE
SUMMARY:We Are One Recovery Opulence at the Opera Brunch Gala
DESCRIPTION:Join us for Opulence at the Opera\, a signature fundraising gala benefiting We Are One Recovery\, Tennessee’s only LGBTQ+ affirming recovery residences dedicated to mental health and substance use recovery.\n\nSet within the elegant and arts-forward setting of the Noah Liff Opera Center\, this daytime brunch gala brings together community leaders\, advocates\, and supporters for an inspiring afternoon of connection\, celebration\, and impact.\n\nGuests will enjoy a thoughtfully curated experience featuring brunch\, live entertainment\, a silent auction\, and meaningful moments that highlight the life-changing work of We Are One Recovery. Every ticket and sponsorship directly supports safe\, affirming housing and recovery services for LGBTQ+ individuals navigating mental health challenges and substance use disorders.\n\nThis event is both a celebration of resilience and a call to action — an opportunity to invest in healing\, dignity\, and hope for our community.\n\n✨ Entertainment\, brunch\, auction\, and more\n✨ For sponsorships\, reach out to Chad @weareonerecovery.org\n✨ All proceeds benefit We Are One Recovery\n\nGet your Tickets Today! \nhttps://www.eventbrite.com/e/opulence-at-the-opera-tickets-1979836208395?utm-campaign=social&utm-content=attendeeshare&utm-medium=discovery&utm-term=listing&utm-source=cp&aff=ebdsshcopyurl
X-ALT-DESC;FMTTYPE=text/html:Join us for Opulence at the Opera\, a signature fundraising gala benefiting We Are One Recovery\, Tennessee’s only LGBTQ+ affirming recovery residences dedicated to mental health and substance use recovery.\n\nSet within the elegant and arts-forward setting of the Noah Liff Opera Center\, this daytime brunch gala brings together community leaders\, advocates\, and supporters for an inspiring afternoon of connection\, celebration\, and impact.\n\nGuests will enjoy a thoughtfully curated experience featuring brunch\, live entertainment\, a silent auction\, and meaningful moments that highlight the life-changing work of We Are One Recovery. Every ticket and sponsorship directly supports safe\, affirming housing and recovery services for LGBTQ+ individuals navigating mental health challenges and substance use disorders.\n\nThis event is both a celebration of resilience and a call to action — an opportunity to invest in healing\, dignity\, and hope for our community.\n\n✨ Entertainment\, brunch\, auction\, and more\n✨ For sponsorships\, reach out to Chad @weareonerecovery.org\n✨ All proceeds benefit We Are One Recovery\n\nGet your Tickets Today! \nhttps://www.eventbrite.com/e/opulence-at-the-opera-tickets-1979836208395?utm-campaign=social&utm-content=attendeeshare&utm-medium=discovery&utm-term=listing&utm-source=cp&aff=ebdsshcopyurl
LOCATION:3622 Redmon Street Nashville TN 37209
UID:e.1830.1438812
SEQUENCE:3
DTSTAMP:20260422T062937Z
URL:https://nashvillelgbtchamberofcommercejuly272020.growthzoneapp.com/chamber-events/Details/we-are-one-recovery-opulence-at-the-opera-brunch-gala-1703011?sourceTypeId=Hub
END:VEVENT
END:VCALENDAR
