BEGIN:VCALENDAR
VERSION:2.0
PRODID:-//ChamberMaster//Event Calendar 2.0//EN
METHOD:PUBLISH
X-PUBLISHED-TTL:P1H
REFRESH-INTERVAL:P1H
CALSCALE:GREGORIAN
BEGIN:VTIMEZONE
TZID:America/Chicago
BEGIN:DAYLIGHT
RRULE:FREQ=YEARLY;BYMONTH=3;BYDAY=2SU
DTSTART:20070101T000000
TZOFFSETFROM:-0600
TZOFFSETTO:-0500
TZNAME:Central Daylight Time
END:DAYLIGHT
BEGIN:STANDARD
RRULE:FREQ=YEARLY;BYMONTH=11;BYDAY=1SU
DTSTART:20070101T000000
TZOFFSETFROM:-0500
TZOFFSETTO:-0600
TZNAME:Central Standard Time
END:STANDARD
END:VTIMEZONE
BEGIN:VEVENT
DTSTART;TZID=America/Chicago:20260410T000000
DTEND;TZID=America/Chicago:20260419T000000
X-MICROSOFT-CDO-ALLDAYEVENT:FALSE
SUMMARY:Sister Act at the Nashville Repertory Theatre
DESCRIPTION:Featuring original music by Tony- and eight-time Oscar winner\, Alan Menken\, Sister Act is the feel-good musical comedy smash based on the hit 1992 film that has audiences jumping to their feet. When Deloris Van Cartier\, a lounge singer with big dreams\, witnesses a crime\, she finds herself hiding at the last place she ever expected\, a convent. Disguised as a nun\, she shakes up the quiet church community and transforms its struggling choir into a sensation. Sister Act is a joyful\, high-energy musical about friendship\, faith\, and the power of finding your own voice.\n\nGet your tickets at nashvillerep.org/sister-act and use code REPPRIDE for 25% for an exclusive Tennessee Pride Chamber Member Discount
X-ALT-DESC;FMTTYPE=text/html:Featuring original music by Tony- and eight-time Oscar winner\, Alan Menken\, Sister Act is the feel-good musical comedy smash based on the hit 1992 film that has audiences jumping to their feet. When Deloris Van Cartier\, a lounge singer with big dreams\, witnesses a crime\, she finds herself hiding at the last place she ever expected\, a convent. Disguised as a nun\, she shakes up the quiet church community and transforms its struggling choir into a sensation. Sister Act is a joyful\, high-energy musical about friendship\, faith\, and the power of finding your own voice.\n\nGet your tickets at nashvillerep.org/sister-act and use code REPPRIDE for 25% for an exclusive Tennessee Pride Chamber Member Discount
LOCATION:505 Deaderick Street 3rd Floor Nashville TN 37243
UID:e.1830.1438978
SEQUENCE:3
DTSTAMP:20260422T062935Z
URL:https://nashvillelgbtchamberofcommercejuly272020.growthzoneapp.com/chamber-events/Details/sister-act-at-the-nashville-repertory-theatre-1703177?sourceTypeId=Hub
END:VEVENT
END:VCALENDAR
