BEGIN:VCALENDAR
VERSION:2.0
PRODID:-//ChamberMaster//Event Calendar 2.0//EN
METHOD:PUBLISH
X-PUBLISHED-TTL:P1H
REFRESH-INTERVAL:P1H
CALSCALE:GREGORIAN
BEGIN:VTIMEZONE
TZID:America/Chicago
BEGIN:DAYLIGHT
RRULE:FREQ=YEARLY;BYMONTH=3;BYDAY=2SU
DTSTART:20070101T000000
TZOFFSETFROM:-0600
TZOFFSETTO:-0500
TZNAME:Central Daylight Time
END:DAYLIGHT
BEGIN:STANDARD
RRULE:FREQ=YEARLY;BYMONTH=11;BYDAY=1SU
DTSTART:20070101T000000
TZOFFSETFROM:-0500
TZOFFSETTO:-0600
TZNAME:Central Standard Time
END:STANDARD
END:VTIMEZONE
BEGIN:VEVENT
DTSTART;TZID=America/Chicago:20260410T080000
DTEND;TZID=America/Chicago:20260419T170000
X-MICROSOFT-CDO-ALLDAYEVENT:FALSE
SUMMARY:Sister Act the Musical
DESCRIPTION:Use code REPPRIDE for 25% off tickets! Featuring original music by Tony- and eight-time Oscar winner\, Alan Menken\, Sister Act is the feel-good musical comedy smash based on the hit 1992 film that has audiences jumping to their feet. When Deloris Van Cartier\, a lounge singer with big dreams\, witnesses a crime\, she finds herself hiding at the last place she ever expected\, a convent. Disguised as a nun\, she shakes up the quiet church community and transforms its struggling choir into a sensation. Sister Act is a joyful\, high-energy musical about friendship\, faith\, and the power of finding your own voice. PRIDE&kid=171
X-ALT-DESC;FMTTYPE=text/html:<!DOCTYPE html><html><head><title></title></head><body aria-disabled="false"><p>Use code REPPRIDE for 25% off tickets! Featuring original music by Tony- and eight-time Oscar winner\, Alan Menken\, Sister Act is the feel-good musical comedy smash based on the hit 1992 film that has audiences jumping to their feet. When Deloris Van Cartier\, a lounge singer with big dreams\, witnesses a crime\, she finds herself hiding at the last place she ever expected\, a convent. Disguised as a nun\, she shakes up the quiet church community and transforms its struggling choir into a sensation. Sister Act is a joyful\, high-energy musical about friendship\, faith\, and the power of finding your own voice.&nbsp\;<a data-outlook-id="eaa63ed0-be9b-46b1-86e0-9046cc38893d" fr-original-style="color: purple\; text-decoration: underline\; font-family: Aptos\, sans-serif\; font-size: 14.666666px\; font-style: normal\; font-variant-caps: normal\; font-weight: 400\; letter-spacing: normal\; orphans: 2\; text-align: start\; text-indent: 0px\; text-transform: none\; white-space: normal\; widows: 2\; word-spacing: 0px\; -webkit-text-stroke-width: 0px\;" href="https://cart.tpac.org/events?view=list&promo=REPPRIDE&kid=171" style="color: purple\; text-decoration: underline\; font-family: Aptos\, sans-serif\; font-size: 14.6667px\; font-style: normal\; font-variant-caps: normal\; font-weight: 400\; letter-spacing: normal\; orphans: 2\; text-align: start\; text-indent: 0px\; text-transform: none\; white-space: normal\; widows: 2\; word-spacing: 0px\; -webkit-text-stroke-width: 0px\; user-select: auto\;" title="https://cart.tpac.org/events?view=list&promo=REPPRIDE&kid=171">https://cart.tpac.org/events?view=list&amp\;promo=REP<span data-markjs="true">PRIDE</span>&amp\;kid=171</a></p></body></html>
LOCATION:505 Deaderick Street Nashville TN 37243
UID:e.1830.1438461
SEQUENCE:3
DTSTAMP:20260422T062940Z
URL:https://nashvillelgbtchamberofcommercejuly272020.growthzoneapp.com/chamber-events/Details/sister-act-the-musical-1702562?sourceTypeId=Hub
END:VEVENT
END:VCALENDAR
